BEGIN:VCALENDAR
VERSION:2.0
PRODID:https://www.kufer.de/kuferweb / DE
METHOD:PUBLISH
CALSCALE:GREGORIAN
X-WR-TIMEZONE:Europe/Berlin
BEGIN:VTIMEZONE
TZID:Europe/Berlin
X-LIC-LOCATION:Europe/Berlin
BEGIN:DAYLIGHT
TZOFFSETFROM:+0100
TZOFFSETTO:+0200
TZNAME:CEST
DTSTART:19700329T020000
RRULE:FREQ=YEARLY;INTERVAL=1;BYDAY=-1SU;BYMONTH=3
END:DAYLIGHT
BEGIN:STANDARD
TZOFFSETFROM:+0200
TZOFFSETTO:+0100
TZNAME:CET
DTSTART:19701025T030000
RRULE:FREQ=YEARLY;INTERVAL=1;BYDAY=-1SU;BYMONTH=10
END:STANDARD
END:VTIMEZONE
BEGIN:VEVENT
DTSTAMP:20260424T100853
DTSTART;TZID=Europe/Berlin:20260803T090000
DTEND;TZID=Europe/Berlin:20260803T123000
UID:H7610-20260803T090000@RW21 VHSBAYREUTH
SUMMARY:Bühnenzauber – Requisiten & Objektbau (6-12 Jahre) (H7610) 
LOCATION:Haus des Spiels, Berneckerstraße 15
END:VEVENT
BEGIN:VEVENT
DTSTAMP:20260424T100853
DTSTART;TZID=Europe/Berlin:20260804T090000
DTEND;TZID=Europe/Berlin:20260804T123000
UID:H7610-20260804T090000@RW21 VHSBAYREUTH
SUMMARY:Bühnenzauber – Requisiten & Objektbau (6-12 Jahre) (H7610) 
LOCATION:Haus des Spiels, Berneckerstraße 15
END:VEVENT
BEGIN:VEVENT
DTSTAMP:20260424T100853
DTSTART;TZID=Europe/Berlin:20260805T090000
DTEND;TZID=Europe/Berlin:20260805T123000
UID:H7610-20260805T090000@RW21 VHSBAYREUTH
SUMMARY:Bühnenzauber – Requisiten & Objektbau (6-12 Jahre) (H7610) 
LOCATION:Haus des Spiels, Berneckerstraße 15
END:VEVENT
BEGIN:VEVENT
DTSTAMP:20260424T100853
DTSTART;TZID=Europe/Berlin:20260806T090000
DTEND;TZID=Europe/Berlin:20260806T123000
UID:H7610-20260806T090000@RW21 VHSBAYREUTH
SUMMARY:Bühnenzauber – Requisiten & Objektbau (6-12 Jahre) (H7610) 
LOCATION:Haus des Spiels, Berneckerstraße 15
END:VEVENT
BEGIN:VEVENT
DTSTAMP:20260424T100853
DTSTART;TZID=Europe/Berlin:20260807T090000
DTEND;TZID=Europe/Berlin:20260807T123000
UID:H7610-20260807T090000@RW21 VHSBAYREUTH
SUMMARY:Bühnenzauber – Requisiten & Objektbau (6-12 Jahre) (H7610) 
LOCATION:Haus des Spiels, Berneckerstraße 15
END:VEVENT
END:VCALENDAR