BEGIN:VCALENDAR
VERSION:2.0
PRODID:https://www.kufer.de/kuferweb / DE
METHOD:PUBLISH
CALSCALE:GREGORIAN
X-WR-TIMEZONE:Europe/Berlin
BEGIN:VTIMEZONE
TZID:Europe/Berlin
X-LIC-LOCATION:Europe/Berlin
BEGIN:DAYLIGHT
TZOFFSETFROM:+0100
TZOFFSETTO:+0200
TZNAME:CEST
DTSTART:19700329T020000
RRULE:FREQ=YEARLY;INTERVAL=1;BYDAY=-1SU;BYMONTH=3
END:DAYLIGHT
BEGIN:STANDARD
TZOFFSETFROM:+0200
TZOFFSETTO:+0100
TZNAME:CET
DTSTART:19701025T030000
RRULE:FREQ=YEARLY;INTERVAL=1;BYDAY=-1SU;BYMONTH=10
END:STANDARD
END:VTIMEZONE
BEGIN:VEVENT
DTSTAMP:20260422T024307
DTSTART;TZID=Europe/Berlin:20260305T093000
DTEND;TZID=Europe/Berlin:20260305T103000
UID:H4232-20260305T093000@RW21 VHSBAYREUTH
SUMMARY:Mehr Mobilität im Alltag - Bewegung mit Lust und Laune (H4232) 
LOCATION:Seminarhaus am Neuen Schloss, Ludwigstr. 12, Saal
END:VEVENT
BEGIN:VEVENT
DTSTAMP:20260422T024307
DTSTART;TZID=Europe/Berlin:20260312T093000
DTEND;TZID=Europe/Berlin:20260312T103000
UID:H4232-20260312T093000@RW21 VHSBAYREUTH
SUMMARY:Mehr Mobilität im Alltag - Bewegung mit Lust und Laune (H4232) 
LOCATION:Seminarhaus am Neuen Schloss, Ludwigstr. 12, Saal
END:VEVENT
BEGIN:VEVENT
DTSTAMP:20260422T024307
DTSTART;TZID=Europe/Berlin:20260319T093000
DTEND;TZID=Europe/Berlin:20260319T103000
UID:H4232-20260319T093000@RW21 VHSBAYREUTH
SUMMARY:Mehr Mobilität im Alltag - Bewegung mit Lust und Laune (H4232) 
LOCATION:Seminarhaus am Neuen Schloss, Ludwigstr. 12, Saal
END:VEVENT
BEGIN:VEVENT
DTSTAMP:20260422T024307
DTSTART;TZID=Europe/Berlin:20260326T093000
DTEND;TZID=Europe/Berlin:20260326T103000
UID:H4232-20260326T093000@RW21 VHSBAYREUTH
SUMMARY:Mehr Mobilität im Alltag - Bewegung mit Lust und Laune (H4232) 
LOCATION:Seminarhaus am Neuen Schloss, Ludwigstr. 12, Saal
END:VEVENT
BEGIN:VEVENT
DTSTAMP:20260422T024307
DTSTART;TZID=Europe/Berlin:20260416T093000
DTEND;TZID=Europe/Berlin:20260416T103000
UID:H4232-20260416T093000@RW21 VHSBAYREUTH
SUMMARY:Mehr Mobilität im Alltag - Bewegung mit Lust und Laune (H4232) 
LOCATION:Seminarhaus am Neuen Schloss, Ludwigstr. 12, Saal
END:VEVENT
BEGIN:VEVENT
DTSTAMP:20260422T024307
DTSTART;TZID=Europe/Berlin:20260423T093000
DTEND;TZID=Europe/Berlin:20260423T103000
UID:H4232-20260423T093000@RW21 VHSBAYREUTH
SUMMARY:Mehr Mobilität im Alltag - Bewegung mit Lust und Laune (H4232) 
LOCATION:Seminarhaus am Neuen Schloss, Ludwigstr. 12, Saal
END:VEVENT
BEGIN:VEVENT
DTSTAMP:20260422T024307
DTSTART;TZID=Europe/Berlin:20260507T093000
DTEND;TZID=Europe/Berlin:20260507T103000
UID:H4232-20260507T093000@RW21 VHSBAYREUTH
SUMMARY:Mehr Mobilität im Alltag - Bewegung mit Lust und Laune (H4232) 
LOCATION:Seminarhaus am Neuen Schloss, Ludwigstr. 12, Saal
END:VEVENT
BEGIN:VEVENT
DTSTAMP:20260422T024307
DTSTART;TZID=Europe/Berlin:20260521T093000
DTEND;TZID=Europe/Berlin:20260521T103000
UID:H4232-20260521T093000@RW21 VHSBAYREUTH
SUMMARY:Mehr Mobilität im Alltag - Bewegung mit Lust und Laune (H4232) 
LOCATION:Seminarhaus am Neuen Schloss, Ludwigstr. 12, Saal
END:VEVENT
BEGIN:VEVENT
DTSTAMP:20260422T024307
DTSTART;TZID=Europe/Berlin:20260611T093000
DTEND;TZID=Europe/Berlin:20260611T103000
UID:H4232-20260611T093000@RW21 VHSBAYREUTH
SUMMARY:Mehr Mobilität im Alltag - Bewegung mit Lust und Laune (H4232) 
LOCATION:Seminarhaus am Neuen Schloss, Ludwigstr. 12, Saal
END:VEVENT
BEGIN:VEVENT
DTSTAMP:20260422T024307
DTSTART;TZID=Europe/Berlin:20260618T093000
DTEND;TZID=Europe/Berlin:20260618T103000
UID:H4232-20260618T093000@RW21 VHSBAYREUTH
SUMMARY:Mehr Mobilität im Alltag - Bewegung mit Lust und Laune (H4232) 
LOCATION:Seminarhaus am Neuen Schloss, Ludwigstr. 12, Saal
END:VEVENT
BEGIN:VEVENT
DTSTAMP:20260422T024307
DTSTART;TZID=Europe/Berlin:20260709T093000
DTEND;TZID=Europe/Berlin:20260709T103000
UID:H4232-20260709T093000@RW21 VHSBAYREUTH
SUMMARY:Mehr Mobilität im Alltag - Bewegung mit Lust und Laune (H4232) 
LOCATION:Seminarhaus am Neuen Schloss, Ludwigstr. 12, Saal
END:VEVENT
BEGIN:VEVENT
DTSTAMP:20260422T024307
DTSTART;TZID=Europe/Berlin:20260716T093000
DTEND;TZID=Europe/Berlin:20260716T103000
UID:H4232-20260716T093000@RW21 VHSBAYREUTH
SUMMARY:Mehr Mobilität im Alltag - Bewegung mit Lust und Laune (H4232) 
LOCATION:Seminarhaus am Neuen Schloss, Ludwigstr. 12, Saal
END:VEVENT
BEGIN:VEVENT
DTSTAMP:20260422T024307
DTSTART;TZID=Europe/Berlin:20260723T093000
DTEND;TZID=Europe/Berlin:20260723T103000
UID:H4232-20260723T093000@RW21 VHSBAYREUTH
SUMMARY:Mehr Mobilität im Alltag - Bewegung mit Lust und Laune (H4232) 
LOCATION:Seminarhaus am Neuen Schloss, Ludwigstr. 12, Saal
END:VEVENT
END:VCALENDAR