BEGIN:VCALENDAR
VERSION:2.0
PRODID:https://www.kufer.de/kuferweb / DE
METHOD:PUBLISH
CALSCALE:GREGORIAN
X-WR-TIMEZONE:Europe/Berlin
BEGIN:VTIMEZONE
TZID:Europe/Berlin
X-LIC-LOCATION:Europe/Berlin
BEGIN:DAYLIGHT
TZOFFSETFROM:+0100
TZOFFSETTO:+0200
TZNAME:CEST
DTSTART:19700329T020000
RRULE:FREQ=YEARLY;INTERVAL=1;BYDAY=-1SU;BYMONTH=3
END:DAYLIGHT
BEGIN:STANDARD
TZOFFSETFROM:+0200
TZOFFSETTO:+0100
TZNAME:CET
DTSTART:19701025T030000
RRULE:FREQ=YEARLY;INTERVAL=1;BYDAY=-1SU;BYMONTH=10
END:STANDARD
END:VTIMEZONE
BEGIN:VEVENT
DTSTAMP:20260419T162734
DTSTART;TZID=Europe/Berlin:20260310T170000
DTEND;TZID=Europe/Berlin:20260310T200000
UID:H3400-20260310T170000@RW21 VHSBAYREUTH
SUMMARY:Deutsch auf Einstiegsniveau A1.1 / German course for participants without previous knowledge A1.1. (H3400) 
LOCATION:WWG, Ostbau, Zimmer 23, Am Sportpark 1, 95448 Bayreuth
END:VEVENT
BEGIN:VEVENT
DTSTAMP:20260419T162734
DTSTART;TZID=Europe/Berlin:20260317T170000
DTEND;TZID=Europe/Berlin:20260317T200000
UID:H3400-20260317T170000@RW21 VHSBAYREUTH
SUMMARY:Deutsch auf Einstiegsniveau A1.1 / German course for participants without previous knowledge A1.1. (H3400) 
LOCATION:WWG, Ostbau, Zimmer 23, Am Sportpark 1, 95448 Bayreuth
END:VEVENT
BEGIN:VEVENT
DTSTAMP:20260419T162734
DTSTART;TZID=Europe/Berlin:20260414T170000
DTEND;TZID=Europe/Berlin:20260414T200000
UID:H3400-20260414T170000@RW21 VHSBAYREUTH
SUMMARY:Deutsch auf Einstiegsniveau A1.1 / German course for participants without previous knowledge A1.1. (H3400) 
LOCATION:WWG, Ostbau, Zimmer 23, Am Sportpark 1, 95448 Bayreuth
END:VEVENT
BEGIN:VEVENT
DTSTAMP:20260419T162734
DTSTART;TZID=Europe/Berlin:20260421T170000
DTEND;TZID=Europe/Berlin:20260421T200000
UID:H3400-20260421T170000@RW21 VHSBAYREUTH
SUMMARY:Deutsch auf Einstiegsniveau A1.1 / German course for participants without previous knowledge A1.1. (H3400) 
LOCATION:WWG, Ostbau, Zimmer 05, Am Sportpark 1, 95448 Bayreuth
END:VEVENT
BEGIN:VEVENT
DTSTAMP:20260419T162734
DTSTART;TZID=Europe/Berlin:20260428T170000
DTEND;TZID=Europe/Berlin:20260428T200000
UID:H3400-20260428T170000@RW21 VHSBAYREUTH
SUMMARY:Deutsch auf Einstiegsniveau A1.1 / German course for participants without previous knowledge A1.1. (H3400) 
LOCATION:WWG, Ostbau, Zimmer 05, Am Sportpark 1, 95448 Bayreuth
END:VEVENT
BEGIN:VEVENT
DTSTAMP:20260419T162734
DTSTART;TZID=Europe/Berlin:20260505T170000
DTEND;TZID=Europe/Berlin:20260505T200000
UID:H3400-20260505T170000@RW21 VHSBAYREUTH
SUMMARY:Deutsch auf Einstiegsniveau A1.1 / German course for participants without previous knowledge A1.1. (H3400) 
LOCATION:WWG, Ostbau, Zimmer 05, Am Sportpark 1, 95448 Bayreuth
END:VEVENT
BEGIN:VEVENT
DTSTAMP:20260419T162734
DTSTART;TZID=Europe/Berlin:20260512T170000
DTEND;TZID=Europe/Berlin:20260512T200000
UID:H3400-20260512T170000@RW21 VHSBAYREUTH
SUMMARY:Deutsch auf Einstiegsniveau A1.1 / German course for participants without previous knowledge A1.1. (H3400) 
LOCATION:WWG, Ostbau, Zimmer 05, Am Sportpark 1, 95448 Bayreuth
END:VEVENT
BEGIN:VEVENT
DTSTAMP:20260419T162734
DTSTART;TZID=Europe/Berlin:20260519T170000
DTEND;TZID=Europe/Berlin:20260519T200000
UID:H3400-20260519T170000@RW21 VHSBAYREUTH
SUMMARY:Deutsch auf Einstiegsniveau A1.1 / German course for participants without previous knowledge A1.1. (H3400) 
LOCATION:WWG, Ostbau, Zimmer 23, Am Sportpark 1, 95448 Bayreuth
END:VEVENT
BEGIN:VEVENT
DTSTAMP:20260419T162734
DTSTART;TZID=Europe/Berlin:20260609T170000
DTEND;TZID=Europe/Berlin:20260609T200000
UID:H3400-20260609T170000@RW21 VHSBAYREUTH
SUMMARY:Deutsch auf Einstiegsniveau A1.1 / German course for participants without previous knowledge A1.1. (H3400) 
LOCATION:WWG, Ostbau, Zimmer 23, Am Sportpark 1, 95448 Bayreuth
END:VEVENT
BEGIN:VEVENT
DTSTAMP:20260419T162734
DTSTART;TZID=Europe/Berlin:20260616T170000
DTEND;TZID=Europe/Berlin:20260616T200000
UID:H3400-20260616T170000@RW21 VHSBAYREUTH
SUMMARY:Deutsch auf Einstiegsniveau A1.1 / German course for participants without previous knowledge A1.1. (H3400) 
LOCATION:WWG, Ostbau, Zimmer 23, Am Sportpark 1, 95448 Bayreuth
END:VEVENT
BEGIN:VEVENT
DTSTAMP:20260419T162734
DTSTART;TZID=Europe/Berlin:20260623T170000
DTEND;TZID=Europe/Berlin:20260623T200000
UID:H3400-20260623T170000@RW21 VHSBAYREUTH
SUMMARY:Deutsch auf Einstiegsniveau A1.1 / German course for participants without previous knowledge A1.1. (H3400) 
LOCATION:WWG, Ostbau, Zimmer 23, Am Sportpark 1, 95448 Bayreuth
END:VEVENT
BEGIN:VEVENT
DTSTAMP:20260419T162734
DTSTART;TZID=Europe/Berlin:20260630T170000
DTEND;TZID=Europe/Berlin:20260630T200000
UID:H3400-20260630T170000@RW21 VHSBAYREUTH
SUMMARY:Deutsch auf Einstiegsniveau A1.1 / German course for participants without previous knowledge A1.1. (H3400) 
LOCATION:WWG, Ostbau, Zimmer 23, Am Sportpark 1, 95448 Bayreuth
END:VEVENT
BEGIN:VEVENT
DTSTAMP:20260419T162734
DTSTART;TZID=Europe/Berlin:20260707T170000
DTEND;TZID=Europe/Berlin:20260707T200000
UID:H3400-20260707T170000@RW21 VHSBAYREUTH
SUMMARY:Deutsch auf Einstiegsniveau A1.1 / German course for participants without previous knowledge A1.1. (H3400) 
LOCATION:WWG, Ostbau, Zimmer 23, Am Sportpark 1, 95448 Bayreuth
END:VEVENT
BEGIN:VEVENT
DTSTAMP:20260419T162734
DTSTART;TZID=Europe/Berlin:20260714T170000
DTEND;TZID=Europe/Berlin:20260714T200000
UID:H3400-20260714T170000@RW21 VHSBAYREUTH
SUMMARY:Deutsch auf Einstiegsniveau A1.1 / German course for participants without previous knowledge A1.1. (H3400) 
LOCATION:WWG, Ostbau, Zimmer 23, Am Sportpark 1, 95448 Bayreuth
END:VEVENT
BEGIN:VEVENT
DTSTAMP:20260419T162734
DTSTART;TZID=Europe/Berlin:20260721T170000
DTEND;TZID=Europe/Berlin:20260721T200000
UID:H3400-20260721T170000@RW21 VHSBAYREUTH
DESCRIPTION:Ersatz für Ausfall am 24.03.2026
SUMMARY:Deutsch auf Einstiegsniveau A1.1 / German course for participants without previous knowledge A1.1. (H3400) 
LOCATION:WWG, Ostbau, Zimmer 23, Am Sportpark 1, 95448 Bayreuth
END:VEVENT
END:VCALENDAR