BEGIN:VCALENDAR
VERSION:2.0
PRODID:https://www.kufer.de/kuferweb / DE
METHOD:PUBLISH
CALSCALE:GREGORIAN
X-WR-TIMEZONE:Europe/Berlin
BEGIN:VTIMEZONE
TZID:Europe/Berlin
X-LIC-LOCATION:Europe/Berlin
BEGIN:DAYLIGHT
TZOFFSETFROM:+0100
TZOFFSETTO:+0200
TZNAME:CEST
DTSTART:19700329T020000
RRULE:FREQ=YEARLY;INTERVAL=1;BYDAY=-1SU;BYMONTH=3
END:DAYLIGHT
BEGIN:STANDARD
TZOFFSETFROM:+0200
TZOFFSETTO:+0100
TZNAME:CET
DTSTART:19701025T030000
RRULE:FREQ=YEARLY;INTERVAL=1;BYDAY=-1SU;BYMONTH=10
END:STANDARD
END:VTIMEZONE
BEGIN:VEVENT
DTSTAMP:20260421T145549
DTSTART;TZID=Europe/Berlin:20260302T183000
DTEND;TZID=Europe/Berlin:20260302T203000
UID:H3304-20260302T183000@RW21 VHSBAYREUTH
SUMMARY:Dänisch - Konversation und Lektüre (H3304) 
LOCATION:WWG, Ostbau, Zimmer 12, Am Sportpark 1, 95448 Bayreuth
END:VEVENT
BEGIN:VEVENT
DTSTAMP:20260421T145549
DTSTART;TZID=Europe/Berlin:20260323T183000
DTEND;TZID=Europe/Berlin:20260323T203000
UID:H3304-20260323T183000@RW21 VHSBAYREUTH
SUMMARY:Dänisch - Konversation und Lektüre (H3304) 
LOCATION:WWG, Ostbau, Zimmer 12, Am Sportpark 1, 95448 Bayreuth
END:VEVENT
BEGIN:VEVENT
DTSTAMP:20260421T145549
DTSTART;TZID=Europe/Berlin:20260413T183000
DTEND;TZID=Europe/Berlin:20260413T203000
UID:H3304-20260413T183000@RW21 VHSBAYREUTH
SUMMARY:Dänisch - Konversation und Lektüre (H3304) 
LOCATION:WWG, Ostbau, Zimmer 12, Am Sportpark 1, 95448 Bayreuth
END:VEVENT
BEGIN:VEVENT
DTSTAMP:20260421T145549
DTSTART;TZID=Europe/Berlin:20260420T183000
DTEND;TZID=Europe/Berlin:20260420T203000
UID:H3304-20260420T183000@RW21 VHSBAYREUTH
SUMMARY:Dänisch - Konversation und Lektüre (H3304) 
LOCATION:WWG, Ostbau, Zimmer 12, Am Sportpark 1, 95448 Bayreuth
END:VEVENT
BEGIN:VEVENT
DTSTAMP:20260421T145549
DTSTART;TZID=Europe/Berlin:20260427T183000
DTEND;TZID=Europe/Berlin:20260427T203000
UID:H3304-20260427T183000@RW21 VHSBAYREUTH
SUMMARY:Dänisch - Konversation und Lektüre (H3304) 
LOCATION:WWG, Ostbau, Zimmer 12, Am Sportpark 1, 95448 Bayreuth
END:VEVENT
BEGIN:VEVENT
DTSTAMP:20260421T145549
DTSTART;TZID=Europe/Berlin:20260608T183000
DTEND;TZID=Europe/Berlin:20260608T203000
UID:H3304-20260608T183000@RW21 VHSBAYREUTH
SUMMARY:Dänisch - Konversation und Lektüre (H3304) 
LOCATION:WWG, Ostbau, Zimmer 12, Am Sportpark 1, 95448 Bayreuth
END:VEVENT
BEGIN:VEVENT
DTSTAMP:20260421T145549
DTSTART;TZID=Europe/Berlin:20260622T183000
DTEND;TZID=Europe/Berlin:20260622T203000
UID:H3304-20260622T183000@RW21 VHSBAYREUTH
SUMMARY:Dänisch - Konversation und Lektüre (H3304) 
LOCATION:WWG, Ostbau, Zimmer 12, Am Sportpark 1, 95448 Bayreuth
END:VEVENT
BEGIN:VEVENT
DTSTAMP:20260421T145549
DTSTART;TZID=Europe/Berlin:20260706T183000
DTEND;TZID=Europe/Berlin:20260706T203000
UID:H3304-20260706T183000@RW21 VHSBAYREUTH
SUMMARY:Dänisch - Konversation und Lektüre (H3304) 
LOCATION:WWG, Ostbau, Zimmer 12, Am Sportpark 1, 95448 Bayreuth
END:VEVENT
END:VCALENDAR